Workbook

Sheet DADOS UTENTES
A1: SIGLA ENTIDADE | B1: NOME CONHECIDO | C1: AT | D1: NOME COMPLETO PRATICANTE | E1: NIF | F1: SEXO | G1: DATA DE NASCIMENTO | H1: DATA SEGURO
A2: ADF | B2: =IF(ISERROR(VLOOKUP(A2,Listas!$A$2:$E$878,2,0)),"",(VLOOKUP(A2,Listas!$A$2:$E$878,2,0))) -> Associação Desportiva de Fafe | C2: =IF(ISERROR(VLOOKUP(A2,Listas!$A$2:$E$878,3,0)),"",(VLOOKUP(A2,Listas!$A$2:$E$878,3,0))) -> ANNP
B3: =IF(ISERROR(VLOOKUP(A3,Listas!$A$2:$E$878,2,0)),"",(VLOOKUP(A3,Listas!$A$2:$E$878,2,0))) | C3: =IF(ISERROR(VLOOKUP(A3,Listas!$A$2:$E$878,3,0)),"",(VLOOKUP(A3,Listas!$A$2:$E$878,3,0)))
B4: =IF(ISERROR(VLOOKUP(A4,Listas!$A$2:$E$878,2,0)),"",(VLOOKUP(A4,Listas!$A$2:$E$878,2,0))) | C4: =IF(ISERROR(VLOOKUP(A4,Listas!$A$2:$E$878,3,0)),"",(VLOOKUP(A4,Listas!$A$2:$E$878,3,0)))
B5: =IF(ISERROR(VLOOKUP(A5,Listas!$A$2:$E$878,2,0)),"",(VLOOKUP(A5,Listas!$A$2:$E$878,2,0))) | C5: =IF(ISERROR(VLOOKUP(A5,Listas!$A$2:$E$878,3,0)),"",(VLOOKUP(A5,Listas!$A$2:$E$878,3,0)))
B6: =IF(ISERROR(VLOOKUP(A6,Listas!$A$2:$E$878,2,0)),"",(VLOOKUP(A6,Listas!$A$2:$E$878,2,0))) | C6: =IF(ISERROR(VLOOKUP(A6,Listas!$A$2:$E$878,3,0)),"",(VLOOKUP(A6,Listas!$A$2:$E$878,3,0)))
B7: =IF(ISERROR(VLOOKUP(A7,Listas!$A$2:$E$878,2,0)),"",(VLOOKUP(A7,Listas!$A$2:$E$878,2,0))) | C7: =IF(ISERROR(VLOOKUP(A7,Listas!$A$2:$E$878,3,0)),"",(VLOOKUP(A7,Listas!$A$2:$E$878,3,0)))
B8: =IF(ISERROR(VLOOKUP(A8,Listas!$A$2:$E$878,2,0)),"",(VLOOKUP(A8,Listas!$A$2:$E$878,2,0))) | C8: =IF(ISERROR(VLOOKUP(A8,Listas!$A$2:$E$878,3,0)),"",(VLOOKUP(A8,Listas!$A$2:$E$878,3,0)))
B9: =IF(ISERROR(VLOOKUP(A9,Listas!$A$2:$E$878,2,0)),"",(VLOOKUP(A9,Listas!$A$2:$E$878,2,0))) | C9: =IF(ISERROR(VLOOKUP(A9,Listas!$A$2:$E$878,3,0)),"",(VLOOKUP(A9,Listas!$A$2:$E$878,3,0)))
B10: =IF(ISERROR(VLOOKUP(A10,Listas!$A$2:$E$878,2,0)),"",(VLOOKUP(A10,Listas!$A$2:$E$878,2,0))) | C10: =IF(ISERROR(VLOOKUP(A10,Listas!$A$2:$E$878,3,0)),"",(VLOOKUP(A10,Listas!$A$2:$E$878,3,0)))
B11: =IF(ISERROR(VLOOKUP(A11,Listas!$A$2:$E$878,2,0)),"",(VLOOKUP(A11,Listas!$A$2:$E$878,2,0))) | C11: =IF(ISERROR(VLOOKUP(A11,Listas!$A$2:$E$878,3,0)),"",(VLOOKUP(A11,Listas!$A$2:$E$878,3,0)))
B12: =IF(ISERROR(VLOOKUP(A12,Listas!$A$2:$E$878,2,0)),"",(VLOOKUP(A12,Listas!$A$2:$E$878,2,0))) | C12: =IF(ISERROR(VLOOKUP(A12,Listas!$A$2:$E$878,3,0)),"",(VLOOKUP(A12,Listas!$A$2:$E$878,3,0)))
B13: =IF(ISERROR(VLOOKUP(A13,Listas!$A$2:$E$878,2,0)),"",(VLOOKUP(A13,Listas!$A$2:$E$878,2,0))) | C13: =IF(ISERROR(VLOOKUP(A13,Listas!$A$2:$E$878,3,0)),"",(VLOOKUP(A13,Listas!$A$2:$E$878,3,0)))
B14: =IF(ISERROR(VLOOKUP(A14,Listas!$A$2:$E$878,2,0)),"",(VLOOKUP(A14,Listas!$A$2:$E$878,2,0))) | C14: =IF(ISERROR(VLOOKUP(A14,Listas!$A$2:$E$878,3,0)),"",(VLOOKUP(A14,Listas!$A$2:$E$878,3,0)))
... B24031: =IF(ISERROR(VLOOKUP(A24031,Listas!$A$2:$E$878,2,0)),"",(VLOOKUP(A24031,Listas!$A$2:$E$878,2,0))) | C24031: =IF(ISERROR(VLOOKUP(A24031,Listas!$A$2:$E$878,3,0)),"",(VLOOKUP(A24031,Listas!$A$2:$E$878,3,0)))

Sheet Listas
A1: SIGLAS | B1: CLUBES | C1: AT | D1: CATEGORIA | F1: M
A2: ACMN | B2: Atlético Clube Montemor-o-Novo | C2: ANALEN | D2: Escola de Natação | F2: F
A3: ACRZA | B3: Associação Cultural e Recreativa Zona Azul | C3: ANALEN | D3: Escola de Natação
A4: AMINATA | B4: Aminata - Évora Clube de Natação | C4: ANALEN | D4: Escola de Natação
A5: CFE | B5: Clube de Futebol de Estremoz | C5: ANALEN | D5: Escola de Natação
A6: CNLA | B6: Clube de Natação do Litoral Alentejano | C6: ANALEN | D6: Escola de Natação
A7: CRIRA | B7: Centro Republicano de Instrução e Recreio Aljustrelense | C7: ANALEN | D7: Escola de Natação
A8: GDRC | B8: Grupo Desportivo e Recreativo Canaviais | C8: ANALEN | D8: Escola de Natação
A9: GDRTCMM | B9: Grupo Desportivo e Recreativo dos Trabalhadores da Câmara Municipal de Mora | C9: ANALEN | D9: Escola de Natação
A10: GSC | B10: Grândola Sports Club | C10: ANALEN | D10: Escola de Natação
A11: INDALEN | B11: Individual da Associação de Natação do Alentejo | C11: ANALEN | D11: Escola de Natação
A12: MAJT | B12: Município de Aljustrel | C12: ANALEN | D12: Escola de Natação
A13: NDCO | B13: Núcleo Desportivo e Cultural de Odemira | C13: ANALEN | D13: Escola de Natação
A14: ABR | B14: Associação Bernardette Romeira | C14: ANALG | D14: Escola de Natação
... A277: AAESP | B277: Associação Académica de Espinho | C277: ANCNP | D277: Escola de Natação
A278: AAM | B278: Associação Académica de Moçambique | D278: Escola de Natação
A279: AAMA | B279: Associação de Atividade Motora Adaptada | D279: Escola de Natação
A280: AANB | B280: Associação dos Amigos da Natação dos Bebés | D280: Escola de Natação
A281: AAS | B281: Associação Académica de Santarém | C281: ANDS | D281: Escola de Natação
A282: AASM | B282: Associação Académica de São Mamede | D282: Escola de Natação
A283: AAUA | B283: Associação Académica da Universidade dos Açores | C283: ANARA | D283: Escola de Natação
A284: AAZ | B284: Associação Africana da Zambézia | D284: Escola de Natação
A285: ABCD | B285: Associação Beneditense de Cultura e Desporto | C285: ANDS | D285: Escola de Natação
A286: ABSAD | B286: Associação de Beneficência e Socorros Amadeu Duarte | D286: Escola de Natação
A287: ABVAC | B287: Associação dos Bombeiros Voluntários de Agualva-Cacém | C287: ANL | D287: Escola de Natação
A288: ABVC | B288: Associação dos Bombeiros Voluntários de Colares | C288: ANL | D288: Escola de Natação
A289: ABVE | B289: Associação dos Bombeiros Voluntários dos Estoris | C289: ANL | D289: Escola de Natação
A290: ABVM | B290: Associação dos Bombeiros Voluntários de Minde | C290: ANDS | D290: Escola de Natação
A291: ABVS | B291: Associação dos Bombeiros Voluntários de Sintra | C291: ANL | D291: Escola de Natação
A292: ACA | B292: Atlético Clube Alcanenense | C292: ANDS | D292: Escola de Natação
A293: ACADES | B293: Associação CADES - Cooperação Artística, Desportiva, Educativa e Social | D293: Escola de Natação
A294: ACAR | B294: Atlético Clube de Arronches | C294: ANALEN | D294: Escola de Natação
A295: ACASM | B295: Associação de Cultura e Ação Social de Marvão | C295: ANIC | D295: Escola de Natação
A296: ACAV | B296: A. C. Aveirense | D296: Escola de Natação
A297: ACD | B297: Águia Clube Desportivo | D297: Escola de Natação
A298: ACDJS | B298: Associação Cultural e Desportiva Jardim da Serra | D298: Escola de Natação
A299: ACDP | B299: Aqua Clube de Portugal | C299: ANNP | D299: Escola de Natação
A300: ACDRS | B300: Associação Cultural, Desportiva e Recreativa da Serra | D300: Escola de Natação
A301: ACDSJ | B301: Associação Cultural e Desportiva de São João | D301: Escola de Natação
A302: ACF | B302: Atlético Clube de Famalicão | C302: ANNP | D302: Escola de Natação
A303: ACFr | B303: Atlético Clube Fronteirense | D303: Escola de Natação
A304: ACFUN | B304: Ateneu Comercial do Funchal | C304: ANMAD | D304: Escola de Natação
A305: ACJM | B305: Associação Cultural e Juvenil do Mozinho | D305: Escola de Natação
A306: ACL | B306: Ateneu Comercial de Lisboa | C306: ANL | D306: Escola de Natação
A307: ACM | B307: Grupo Desportivo da Associação Cristã da Mocidade | C307: ANC | D307: Escola de Natação
A308: ACMO | B308: Académico Clube do Mondego | C308: ANC | D308: Escola de Natação
A309: ACP | B309: Atlético Clube de Portugal | C309: ANL | D309: Escola de Natação
A310: ACPC | B310: Associação de Caça e Pesca de Caranguejeira | C310: ANDL | D310: Escola de Natação
A311: ACRDIN | B311: Associação Cultural, Recreativa e Desportiva Inês Negra | D311: Escola de Natação
A312: ACRM | B312: Associação Cultural e Recreativa de Maceirinha | D312: Escola de Natação
A313: ACRSCD | B313: Associação Cultural e Recreativa de Santa Cruz do Douro | D313: Escola de Natação
A314: ACRVE | B314: Associação Cultural e Recreativa de Vale de Estacas | D314: Escola de Natação
A315: ACSINTRA | B315: Atlético Clube de Sintra | C315: ANL | D315: Escola de Natação
A316: ACVN | B316: AC Viseu Natação | C316: ANCNP | D316: Escola de Natação
A317: ADAN | B317: Associação Desportiva de Amarante | C317: ANNP | D317: Escola de Natação
A318: ADCA | B318: Associação Desportiva e Cultural da Adémia | D318: Escola de Natação
A319: ADCJC | B319: Associação Desportiva e Cultural da Juventude de Cerveira | C319: ANMIN | D319: Escola de Natação
A320: ADCM | B320: Associação de Divulgação Cultural de Mora | C320: ANALEN | D320: Escola de Natação
A321: ADCSJ | B321: Associação Desportiva e Cultural de São Jacinto | D321: Escola de Natação
A322: ADCV | B322: Associação Desportiva de Castelo de Vide | C322: ANIC | D322: Escola de Natação
A323: ADDCRO | B323: Associação para o Desenvolvimento Desportivo Cultural da Região Oeste | C323: ANL | D323: Escola de Natação
A324: ADFE | B324: Associação Desportiva da Ferraria | D324: Escola de Natação
A325: ADFL | B325: Associação Desportiva Flaviense | C325: ARNN | D325: Escola de Natação
A326: ADFU | B326: Associação Desportiva do Fundão | C326: ANIC | D326: Escola de Natação
A327: ADFV | B327: Associação Desportiva de Figueiró dos Vinhos | D327: Escola de Natação
A328: ADLC | B328: Associação Desporto e Lazer "O Condestável" | D328: Escola de Natação
A329: ADMAC | B329: Associação Desportiva de Mação | C329: ANDS | D329: Escola de Natação
A330: ADMAR | B330: Associação Desportiva Marista | C330: ANL | D330: Escola de Natação
A331: ADMTG | B331: Associação Desportiva Manuel Teixeira Gomes | D331: Escola de Natação
A332: ADN | B332: Associação de Desportos e Natureza | D332: Escola de Natação
A333: ADO | B333: Associação Desportiva de Oeiras | C333: ANL | D333: Escola de Natação
A334: ADPD | B334: Associação Desportiva Piscina Dourival | D334: Escola de Natação
A335: ADPM | B335: Associação Desportiva Portomosense | D335: Escola de Natação
A336: ADRCMB | B336: Associação Desportiva, Recreativa e Cultural da Mata de Benfica | C336: ANL | D336: Escola de Natação
A337: ADRPD | B337: Associação Desportiva e Recreativa de Ponta Delgada | C337: ANARA | D337: Escola de Natação
A338: ADSC | B338: Associação Desportos Subaquáticos de Coimbra | C338: ANC | D338: Escola de Natação
A339: ADSM | B339: Associação Desportiva de Salvaterra de Magos | C339: ANDS | D339: Escola de Natação
A340: ADTDE | B340: Associação de Desporto para Todos do Distrito de Évora | C340: ANALEN | D340: Escola de Natação
A341: ADVFC | B341: Associação Desportiva da Vila Franca do Campo | C341: ANARA | D341: Escola de Natação
A342: AEC | B342: Aveiro Estrela Clube | C342: ANCNP | D342: Escola de Natação
A343: AEFCT | B343: Associação dos Estudantes da Faculdade de Ciências e Tecnologia | C343: ANL | D343: Escola de Natação
A344: AEFMH | B344: Associação de Estudantes da Faculdade de Motricidade Humana | C344: ANL | D344: Escola de Natação
A345: AEISEL | B345: Associação de Estudantes do Instituto Superior de Engenharia de Lisboa | C345: ANL | D345: Escola de Natação
A346: AEIST | B346: Associação de Estudantes do Instituto Superior Técnico | C346: ANL | D346: Escola de Natação
A347: AEMUD | B347: Associação de Estudantes de Medicina Unidos pelo Desporto | D347: Escola de Natação
A348: AFC | B348: Académico Futebol Clube | C348: ANCNP | D348: Escola de Natação
A349: AFCDA | B349: Associação para o Fomento da Cultura e do Desporto de Arouca | C349: ANCNP | D349: Escola de Natação
A350: AFID | B350: Fundação Afid Diferença | D350: Escola de Natação
A351: AFMP | B351: Associação Fernão Mendes Pinto | D351: Escola de Natação
A352: AGISC | B352: Academia Gimnodesportiva de Samora Correia | C352: ANDS | D352: Escola de Natação
A353: AHBVCR | B353: Associação Humanitária dos Bombeiros Voluntários das Caldas da Rainha | C353: ANDL | D353: Escola de Natação
A354: AHBVG | B354: Associação Humanitária dos Bombeiros Voluntários de Guimarães | C354: ANMIN | D354: Escola de Natação
A355: AHBVLB | B355: Associação Humanitária dos Bombeiros Voluntários de Lagares da Beira | C355: ANCNP | D355: Escola de Natação
A356: AHBVPD | B356: Associação Humanitária dos Bombeiros Voluntários de Ponta Delgada | C356: ANARA | D356: Escola de Natação
A357: AHBVV | B357: Associação Humanitária dos Bombeiros Voluntários de Valongo | C357: ANNP | D357: Escola de Natação
A358: AIC | B358: Angra Iate Clube | D358: Escola de Natação
A359: AIRFA | B359: Academia de Instrução e Recreio Familiar Almadense | C359: ANL | D359: Escola de Natação
A360: AJE | B360: Associação Juvenil de Estremoz | C360: ANALEN | D360: Escola de Natação
A361: AJV | B361: Ajuval - Associação Juvenil de Valverde | D361: Escola de Natação
A362: ALDESC | B362: Aldesc E.M. | D362: Escola de Natação
...
