Workbook

Sheet DADOS UTENTES
A1: SIGLA ENTIDADE | B1: NOME CONHECIDO | C1: AT | D1: NOME COMPLETO PRATICANTE | E1: NIF | F1: SEXO | G1: DATA DE NASCIMENTO | H1: DATA SEGURO
A2: ADF | B2: =IF(ISERROR(VLOOKUP(A2,Listas!$A$2:$E$878,2,0)),"",(VLOOKUP(A2,Listas!$A$2:$E$878,2,0))) -> Associação Desportiva de Fafe | C2: =IF(ISERROR(VLOOKUP(A2,Listas!$A$2:$E$878,3,0)),"",(VLOOKUP(A2,Listas!$A$2:$E$878,3,0))) -> ANNP
B3: =IF(ISERROR(VLOOKUP(A3,Listas!$A$2:$E$878,2,0)),"",(VLOOKUP(A3,Listas!$A$2:$E$878,2,0))) | C3: =IF(ISERROR(VLOOKUP(A3,Listas!$A$2:$E$878,3,0)),"",(VLOOKUP(A3,Listas!$A$2:$E$878,3,0)))
B4: =IF(ISERROR(VLOOKUP(A4,Listas!$A$2:$E$878,2,0)),"",(VLOOKUP(A4,Listas!$A$2:$E$878,2,0))) | C4: =IF(ISERROR(VLOOKUP(A4,Listas!$A$2:$E$878,3,0)),"",(VLOOKUP(A4,Listas!$A$2:$E$878,3,0)))
B5: =IF(ISERROR(VLOOKUP(A5,Listas!$A$2:$E$878,2,0)),"",(VLOOKUP(A5,Listas!$A$2:$E$878,2,0))) | C5: =IF(ISERROR(VLOOKUP(A5,Listas!$A$2:$E$878,3,0)),"",(VLOOKUP(A5,Listas!$A$2:$E$878,3,0)))
B6: =IF(ISERROR(VLOOKUP(A6,Listas!$A$2:$E$878,2,0)),"",(VLOOKUP(A6,Listas!$A$2:$E$878,2,0))) | C6: =IF(ISERROR(VLOOKUP(A6,Listas!$A$2:$E$878,3,0)),"",(VLOOKUP(A6,Listas!$A$2:$E$878,3,0)))
B7: =IF(ISERROR(VLOOKUP(A7,Listas!$A$2:$E$878,2,0)),"",(VLOOKUP(A7,Listas!$A$2:$E$878,2,0))) | C7: =IF(ISERROR(VLOOKUP(A7,Listas!$A$2:$E$878,3,0)),"",(VLOOKUP(A7,Listas!$A$2:$E$878,3,0)))
B8: =IF(ISERROR(VLOOKUP(A8,Listas!$A$2:$E$878,2,0)),"",(VLOOKUP(A8,Listas!$A$2:$E$878,2,0))) | C8: =IF(ISERROR(VLOOKUP(A8,Listas!$A$2:$E$878,3,0)),"",(VLOOKUP(A8,Listas!$A$2:$E$878,3,0)))
B9: =IF(ISERROR(VLOOKUP(A9,Listas!$A$2:$E$878,2,0)),"",(VLOOKUP(A9,Listas!$A$2:$E$878,2,0))) | C9: =IF(ISERROR(VLOOKUP(A9,Listas!$A$2:$E$878,3,0)),"",(VLOOKUP(A9,Listas!$A$2:$E$878,3,0)))
B10: =IF(ISERROR(VLOOKUP(A10,Listas!$A$2:$E$878,2,0)),"",(VLOOKUP(A10,Listas!$A$2:$E$878,2,0))) | C10: =IF(ISERROR(VLOOKUP(A10,Listas!$A$2:$E$878,3,0)),"",(VLOOKUP(A10,Listas!$A$2:$E$878,3,0)))
B11: =IF(ISERROR(VLOOKUP(A11,Listas!$A$2:$E$878,2,0)),"",(VLOOKUP(A11,Listas!$A$2:$E$878,2,0))) | C11: =IF(ISERROR(VLOOKUP(A11,Listas!$A$2:$E$878,3,0)),"",(VLOOKUP(A11,Listas!$A$2:$E$878,3,0)))
B12: =IF(ISERROR(VLOOKUP(A12,Listas!$A$2:$E$878,2,0)),"",(VLOOKUP(A12,Listas!$A$2:$E$878,2,0))) | C12: =IF(ISERROR(VLOOKUP(A12,Listas!$A$2:$E$878,3,0)),"",(VLOOKUP(A12,Listas!$A$2:$E$878,3,0)))
B13: =IF(ISERROR(VLOOKUP(A13,Listas!$A$2:$E$878,2,0)),"",(VLOOKUP(A13,Listas!$A$2:$E$878,2,0))) | C13: =IF(ISERROR(VLOOKUP(A13,Listas!$A$2:$E$878,3,0)),"",(VLOOKUP(A13,Listas!$A$2:$E$878,3,0)))
B14: =IF(ISERROR(VLOOKUP(A14,Listas!$A$2:$E$878,2,0)),"",(VLOOKUP(A14,Listas!$A$2:$E$878,2,0))) | C14: =IF(ISERROR(VLOOKUP(A14,Listas!$A$2:$E$878,3,0)),"",(VLOOKUP(A14,Listas!$A$2:$E$878,3,0)))
... B24031: =IF(ISERROR(VLOOKUP(A24031,Listas!$A$2:$E$878,2,0)),"",(VLOOKUP(A24031,Listas!$A$2:$E$878,2,0))) | C24031: =IF(ISERROR(VLOOKUP(A24031,Listas!$A$2:$E$878,3,0)),"",(VLOOKUP(A24031,Listas!$A$2:$E$878,3,0)))

Sheet Listas
A1: SIGLAS | B1: CLUBES | C1: AT | D1: CATEGORIA | F1: M
A2: ACMN | B2: Atlético Clube Montemor-o-Novo | C2: ANALEN | D2: Escola de Natação | F2: F
A3: ACRZA | B3: Associação Cultural e Recreativa Zona Azul | C3: ANALEN | D3: Escola de Natação
A4: AMINATA | B4: Aminata - Évora Clube de Natação | C4: ANALEN | D4: Escola de Natação
A5: CFE | B5: Clube de Futebol de Estremoz | C5: ANALEN | D5: Escola de Natação
A6: CNLA | B6: Clube de Natação do Litoral Alentejano | C6: ANALEN | D6: Escola de Natação
A7: CRIRA | B7: Centro Republicano de Instrução e Recreio Aljustrelense | C7: ANALEN | D7: Escola de Natação
A8: GDRC | B8: Grupo Desportivo e Recreativo Canaviais | C8: ANALEN | D8: Escola de Natação
A9: GDRTCMM | B9: Grupo Desportivo e Recreativo dos Trabalhadores da Câmara Municipal de Mora | C9: ANALEN | D9: Escola de Natação
A10: GSC | B10: Grândola Sports Club | C10: ANALEN | D10: Escola de Natação
A11: INDALEN | B11: Individual da Associação de Natação do Alentejo | C11: ANALEN | D11: Escola de Natação
A12: MAJT | B12: Município de Aljustrel | C12: ANALEN | D12: Escola de Natação
A13: NDCO | B13: Núcleo Desportivo e Cultural de Odemira | C13: ANALEN | D13: Escola de Natação
A14: ABR | B14: Associação Bernardette Romeira | C14: ANALG | D14: Escola de Natação
... A277: AAESP | B277: Associação Académica de Espinho | C277: ANCNP | D277: Escola de Natação
A278: AAM | B278: Associação Académica de Moçambique | D278: Escola de Natação
A279: AAMA | B279: Associação de Atividade Motora Adaptada | D279: Escola de Natação
A280: AANB | B280: Associação dos Amigos da Natação dos Bebés | D280: Escola de Natação
A281: AAS | B281: Associação Académica de Santarém | C281: ANDS | D281: Escola de Natação
A282: AASM | B282: Associação Académica de São Mamede | D282: Escola de Natação
A283: AAUA | B283: Associação Académica da Universidade dos Açores | C283: ANARA | D283: Escola de Natação
A284: AAZ | B284: Associação Africana da Zambézia | D284: Escola de Natação
A285: ABCD | B285: Associação Beneditense de Cultura e Desporto | C285: ANDS | D285: Escola de Natação
A286: ABSAD | B286: Associação de Beneficência e Socorros Amadeu Duarte | D286: Escola de Natação
A287: ABVAC | B287: Associação dos Bombeiros Voluntários de Agualva-Cacém | C287: ANL | D287: Escola de Natação
A288: ABVC | B288: Associação dos Bombeiros Voluntários de Colares | C288: ANL | D288: Escola de Natação
A289: ABVE | B289: Associação dos Bombeiros Voluntários dos Estoris | C289: ANL | D289: Escola de Natação
A290: ABVM | B290: Associação dos Bombeiros Voluntários de Minde | C290: ANDS | D290: Escola de Natação
A291: ABVS | B291: Associação dos Bombeiros Voluntários de Sintra | C291: ANL | D291: Escola de Natação
A292: ACA | B292: Atlético Clube Alcanenense | C292: ANDS | D292: Escola de Natação
A293: ACADES | B293: Associação CADES - Cooperação Artística, Desportiva, Educativa e Social | D293: Escola de Natação
A294: ACAR | B294: Atlético Clube de Arronches | C294: ANALEN | D294: Escola de Natação
A295: ACASM | B295: Associação de Cultura e Ação Social de Marvão | C295: ANIC | D295: Escola de Natação
A296: ACAV | B296: A. C. Aveirense | D296: Escola de Natação
A297: ACD | B297: Águia Clube Desportivo | D297: Escola de Natação
A298: ACDJS | B298: Associação Cultural e Desportiva Jardim da Serra | D298: Escola de Natação
A299: ACDP | B299: Aqua Clube de Portugal | C299: ANNP | D299: Escola de Natação
A300: ACDRS | B300: Associação Cultural, Desportiva e Recreativa da Serra | D300: Escola de Natação
A301: ACDSJ | B301: Associação Cultural e Desportiva de São João | D301: Escola de Natação
A302: ACF | B302: Atlético Clube de Famalicão | C302: ANNP | D302: Escola de Natação
...
